BEGIN:VCALENDAR
VERSION:2.0
PRODID:-//hacksw/handcal//NONSGML v1.0//EN
BEGIN:VEVENT
SUMMARY:Circuit departemental n°2
UID:b645ba9d-d094-45eb-8465-8dc067361c09
DTSTART:20260313T230000Z
DTEND:20260314T230000Z
LOCATION:Localisation   
CATEGORIES:Sportif
STATUS:
URL;VALUE=URI:https://www.aquaclub-lepecq-marly.com/evenements/2026/03/14/circuit-departemental-n2-2426920
END:VEVENT
END:VCALENDAR
