BEGIN:VCALENDAR
VERSION:2.0
PRODID:-//hacksw/handcal//NONSGML v1.0//EN
BEGIN:VEVENT
SUMMARY:Challenge national n°1
UID:cbe8826c-ace1-4713-8558-8b51eab78962
DTSTART:20260416T220000Z
DTEND:20260419T220000Z
LOCATION:Localisation   
CATEGORIES:Sportif
STATUS:
URL;VALUE=URI:https://www.aquaclub-lepecq-marly.com/evenements/2026/04/17/challenge-national-n1-2426924
END:VEVENT
END:VCALENDAR
