BEGIN:VCALENDAR
VERSION:2.0
PRODID:-//hacksw/handcal//NONSGML v1.0//EN
BEGIN:VEVENT
SUMMARY:Championnats de France U18
UID:7a790f24-d117-4e30-8ed1-8e24a62c6dde
DTSTART:20260524T220000Z
DTEND:20260530T220000Z
LOCATION:Localisation   
CATEGORIES:Sportif
STATUS:
URL;VALUE=URI:https://www.aquaclub-lepecq-marly.com/evenements/2026/05/25/championnats-de-france-u18-2426925
END:VEVENT
END:VCALENDAR
